BEGIN:VCALENDAR
VERSION:2.0
PRODID:-//eventon.com NONSGML v1.0//EN
CALSCALE:GREGORIAN
METHOD:PUBLISH
BEGIN:VEVENT
UID:69e62b12bc957
DTSTAMP:20260420T133306Z
DTSTART:20260422T183000Z
DTEND:20260422T215900Z
LOCATION:Jazz Club A-Trane Ecke Pestalozzistrasse am Savigny-Platzz\,  Bleibtreustraße 1\,  10623 Berlin\,  Allemagne
SUMMARY:Jazz Club A-Trane
DESCRIPTION:Riccardo Del Fra presents : “HARD-BOP FEVER” QUINTET with 
 Bill Petry\,  trumpet\,  Peter Weniger\,  saxophone\,  Tino Derado\,  pian
 o\,  Tobias Backhaus\,  drums\,  Riccardo Del Fra\,  double bass.\nhttps:/
 /riccardodelfra.net/events/jazz-club-a-trane-2/
URL:https://riccardodelfra.net/events/jazz-club-a-trane-2/
END:VEVENT
END:VCALENDAR