BEGIN:VCALENDAR
VERSION:2.0
PRODID:-//eventon.com NONSGML v1.0//EN
CALSCALE:GREGORIAN
METHOD:PUBLISH
BEGIN:VEVENT
UID:69e634b9d2d5e
DTSTAMP:20260420T141417Z
DTSTART:20260508T173000Z
DTEND:20260508T215900Z
LOCATION:Sunside Jazz Club 60 rue des Lombards Paris 1er
SUMMARY:Riccardo Del Fra “Moving People”
DESCRIPTION:Riccardo Del Fra &#8211; c.basse Rémi Fox &#8211; saxs Gabriel
  Gosse &#8211; guitare Carl-Henri Morisset &#8211; piano Ariel Tessier &#82
 11; batterie\nhttps://riccardodelfra.net/events/riccardo-del-fra-moving-peo
 ple/
URL:https://riccardodelfra.net/events/riccardo-del-fra-moving-people/
END:VEVENT
END:VCALENDAR