BEGIN:VCALENDAR
VERSION:2.0
PRODID:-//eventon.com NONSGML v1.0//EN
CALSCALE:GREGORIAN
METHOD:PUBLISH
BEGIN:VEVENT
UID:69e617740d739
DTSTAMP:20260420T120924Z
DTSTART:20260509T173000Z
DTEND:20260509T215900Z
LOCATION:Sunside Jazz Club 60 rue des Lombards Paris 1er
SUMMARY:Riccardo Del Fra “Three for Chet”
DESCRIPTION:Riccardo Del Fra &#8211; c.basse Bill Petry &#8211; trompette C
 arl-Henri Morisset &#8211; piano\nhttps://riccardodelfra.net/events/riccard
 o-del-fra-three-for-chet/
URL:https://riccardodelfra.net/events/riccardo-del-fra-three-for-chet/
END:VEVENT
END:VCALENDAR